Workbook

Sheet 2026-2 curriculum
A2: 연번 | B2: 전공분야 | C2: 교과구분 (area) | D2: 교육 분야 | E2: 교과목번호 (subject code) | F2: 교과목명 | G2: (subjects) | H2: 5대역량 | I2: 연구윤리역량 (O,X) | J2: 학점(credit) | K2: 홀-1학기(odd 1st) | L2: 홀-2학기(odd 2nd) | M2: 짝-1학기(even 1st) | N2: 짝-2학기(even 2nd) | O2: 담당교수 | P2: 개설학기 | Q2: 비고
A3: 1 | B3: 에너지 | C3: 기초1 | D3: 0 | E3: MN7200274 | F3: 응용공업수학 | G3: Applied Engineering Mathematics | H3: =VLOOKUP(E3,[1]핵심역량!$G$1:$L$165,6,FALSE) -> 10 | I3: X | J3: 3 | K3: 황진율(영) | L3: 임희창 | M3: 황진율 | N3: 임희창(영) | O3: 임희창,황진율 | P3: 양학기
A4: 2 | B4: 설계 | C4: 기초2 | D4: 0 | E4: MN6600331 | F4: 확률및통계 | G4: Probability and Statistics | H4: =VLOOKUP(E4,[1]핵심역량!$G$1:$L$165,6,FALSE) -> 10 | I4: X | J4: 3 | K4: 노유정(영) | L4: 이준엽 | M4: 노유정(영) | N4: 이준엽 | O4: 노유정,이준엽 | P4: 양학기
A5: 3 | B5: 지능형 | C5: 기초3 | D5: 0 | E5: MN6800426 | F5: 미분방정식특론 | G5: Advanced Differential Equation | H5: =VLOOKUP(E5,[1]핵심역량!$G$1:$L$165,6,FALSE) -> 10 | I5: X | J5: 3 | K5: 김양진 | L5: 김송길(영) | M5: 김양진(영) | N5: 김송길 | O5: 김양진 | P5: 양학기
A6: 4 | B6: 제어 | C6: 기초4 | D6: 0 | E6: MN6200693 | F6: 선형대수학특론 | G6: Advanced Linear Algebra | H6: =VLOOKUP(E6,[1]핵심역량!$G$1:$L$165,6,FALSE) -> 10 | I6: X | J6: 3 | K6: 진상록 | M6: 진상록 | O6: 진상록 | P6: 추후양학기 예정
A7: 5 | B7: 원자력 | C7: 기초5 | D7: 0 | E7: MN7500124 | F7: 공학수치해석특론 | G7: Advanced Numerical Methods with Engineering Applications | H7: 10.11.13 | I7: X | J7: 3 | L7: 민준기 | N7: 이현철 | O7: 이현철,민준기
A8: 6 | B8: 에너지 | C8: 핵심1 | D8: 4,5,6,7 | E8: MN6800488 | F8: 유체역학특론 | G8: Advanced Fluid Dynamics | H8: =VLOOKUP(E8,[1]핵심역량!$G$1:$L$165,6,FALSE) -> 10,11 | I8: X | J8: 3 | K8: 고정상 | M8: 고정상 | O8: 고정상
A9: 7 | B9: 에너지 | C9: 핵심2 | D9: 5,6,7 | E9: MN6300518 | F9: 열역학특론 | G9: Advanced Thermodynamics | H9: =VLOOKUP(E9,[1]핵심역량!$G$1:$L$165,6,FALSE) -> 10 | I9: X | J9: 3 | L9: 김민철 | N9: 김민철 | O9: 김민철
A10: 8 | B10: 에너지 | C10: 핵심3 | D10: 5,6,7 | E10: MN7600507 | F10: 열물질확산특론 | G10: Advanced Heat and Mass Diffusion | H10: =VLOOKUP(E10,[1]핵심역량!$G$1:$L$165,6,FALSE) -> 10,11,13 | I10: X | J10: 3 | L10: 이동근 | N10: 이동근 | O10: 이동근
A11: 9 | B11: 에너지 | C11: 핵심4 | D11: 5,6,7 | E11: MN7200307 | F11: 실험열유체역학 | G11: Experimental Methods of Thermo-Fluid Mechanics | H11: =VLOOKUP(E11,[1]핵심역량!$G$1:$L$165,6,FALSE) -> 10,11 | I11: X | J11: 3 | K11: 염은섭 | M11: 염은섭 | O11: 염은섭 | P11: 홀수년2학기
A12: 10 | B12: 설계 | C12: 핵심5 | D12: 1,2 | E12: MN6000515 | F12: 고체역학특론 | G12: Advanced Solid Mechanics | H12: =VLOOKUP(E12,[1]핵심역량!$G$1:$L$165,6,FALSE) -> 10 | I12: X | J12: 3 | L12: 조윤호 | O12: 조윤호 | P12: 홀수년 2학기
A13: 11 | B13: 설계 | C13: 핵심6 | D13: 1,2 | E13: MN6200713 | F13: 선형진동론 | G13: Theory of Linear Vibration | H13: =VLOOKUP(E13,[1]핵심역량!$G$1:$L$165,6,FALSE) -> 11 | I13: X | J13: 3 | L13: 송경준 | N13: 송경준/백승훈 | O13: 송경준 | P13: 매년 2학기
A14: 12 | B14: 설계 | C14: 핵심7 | D14: 1,2 | E14: MN6100480 | F14: 동역학특론 | G14: Advanced Dynamics | H14: =VLOOKUP(E14,[1]핵심역량!$G$1:$L$165,6,FALSE) -> 10 | I14: X | J14: 3 | K14: 백승훈 | O14: 백승훈 | P14: 홀수년 1학기
A15: 13 | B15: 설계 | C15: 핵심8 | D15: 1,2 | E15: MN6300817 | F15: 유한요소법특론 | G15: Advanced Finite Element Method | H15: =VLOOKUP(E15,[1]핵심역량!$G$1:$L$165,6,FALSE) -> 10 | I15: X | J15: 3 | L15: 박성훈 | N15: 박성훈 | O15: 박성훈 | P15: 매년 2학기
A16: 14 | B16: 지능형 | C16: 핵심9 | D16: 1,3 | E16: MN6400237 | F16: 재료과학특론 | G16: Advanced Material Science | H16: =VLOOKUP(E16,[1]핵심역량!$G$1:$L$165,6,FALSE) -> 10,11 | I16: X | J16: 3 | K16: 김지훈 | O16: 김지훈 | P16: 홀수년 1학기
A17: 15 | B17: 지능형 | C17: 핵심10 | D17: 3 | E17: MN7600516 | F17: 생산공학특론 | G17: Advanced Manufacturing Processes | H17: =VLOOKUP(E17,[1]핵심역량!$G$1:$L$165,6,FALSE) -> 10,11,12,13 | I17: X | J17: 3 | O17: 정밀전공
A18: 16 | B18: 지능형 | C18: 핵심11 | D18: 4 | E18: MN6800663 | F18: 마이크로가공 | G18: Micromachining Theory | H18: =VLOOKUP(E18,[1]핵심역량!$G$1:$L$165,6,FALSE) -> 10,11 | I18: X | J18: 3 | K18: 고종수 | M18: 고종수 | O18: 고종수
A19: 17 | B19: 지능형 | C19: 핵심12 | D19: 1,3 | E19: MN7400275 | F19: 연속체역학개론 | G19: Introduction to Continuum Mechanics | H19: =VLOOKUP(E19,[1]핵심역량!$G$1:$L$165,6,FALSE) -> 13 | I19: X | J19: 3 | L19: 김지훈 | O19: 김지훈 | P19: 홀수년 1학기->홀수년 2학기
A20: 18 | B20: 지능형 | C20: 핵심13 | D20: 3 | E20: MN7400276 | F20: 정밀측정학 | G20: Precision Metrology | H20: =VLOOKUP(E20,[1]핵심역량!$G$1:$L$165,6,FALSE) -> 10,11 | I20: X | J20: 3 | L20: 김양진 | O20: 김양진 | P20: 짝수년 2학기->홀수년 2학기
A21: 19 | B21: 제어 | C21: 핵심14 | D21: 4,8,9 | E21: MN7600506 | F21: 바이오영상신호처리 | G21: Bio Image-Signal Processing | H21: =VLOOKUP(E21,[1]핵심역량!$G$1:$L$165,6,FALSE) -> 10,11,13 | I21: X | J21: 3 | N21: 김호경 | O21: 김호경
A22: 20 | B22: 제어 | C22: 핵심15 | D22: 2,3,8 | E22: MN6200706 | F22: 선형제어 | G22: Linear Control | H22: =VLOOKUP(E22,[1]핵심역량!$G$1:$L$165,6,FALSE) -> 11 | I22: X | J22: 3 | K22: 최재원 | M22: 최재원 | O22: 최재원/안창선 | P22: 매년1학기
A23: 21 | B23: 제어 | C23: 핵심16 | D23: 8 | E23: MN6000280 | F23: 계측및신호처리 | G23: Measurement and Signal Processing | H23: =VLOOKUP(E23,[1]핵심역량!$G$1:$L$165,6,FALSE) -> 10,11,13 | I23: O | J23: 3 | L23: 김화영 | N23: 김화영 | O23: 김화영 | P23: 매년 2학기
A24: 22 | B24: 제어 | C24: 핵심17 | D24: 8 | E24: MN6200226 | F24: 비선형제어 | G24: Nonlinear Control | H24: =VLOOKUP(E24,[1]핵심역량!$G$1:$L$165,6,FALSE) -> 11,13 | I24: X | J24: 3 | K24: 한명철 | M24: 한명철 | O24: (한명철) | P24: 홀수년 1학기
A25: 23 | B25: 제어 | C25: 핵심18 | D25: 8 | E25: MN6200553 | F25: 생산자동화특론 | G25: Advanced Production Automation | H25: =VLOOKUP(E25,[1]핵심역량!$G$1:$L$165,6,FALSE) -> 10,12,13 | I25: X | J25: 3 | L25: 박상민 | N25: 박상민 | O25: 박상민 | P25: 2학기 | Q25: 2026-1차 핵심 추가
A26: 24 | B26: 원자력 | C26: 핵심19 | D26: 4,9 | E26: MN7200282 | F26: 방사선공학 | G26: Radiation Engineering | H26: 10,12,13 | I26: X | J26: 3 | O26: 이승욱 | P26: 격년 1학기
A27: 25 | B27: 원자력 | C27: 핵심20 | D27: 9 | E27: MN7500116 | F27: 원자로이론특론 | G27: Nuclear Reactor Theory | H27: 10,12,13 | I27: X | J27: 3 | K27: 이현철 | M27: 이현철 | O27: 이현철 | P27: 매 2년 1학기 | Q27: 원자로이론, 2024.2차 변경, 2023.1차 핵심 변경
A28: 26 | B28: 원자력 | C28: 핵심21 | D28: 5,7,9 | E28: MN7700107 | F28: 다상유동(Ⅰ) | G28: Multi-phase Flow(Ⅰ) | H28: 10,11 | I28: X | J28: 3 | K28: 윤병조 | M28: 윤병조 | O28: 윤병조 | P28: 1년 | Q28: 다상유동개론, 2022.2차 명칭변경, 2025.부터 핵심 변경
A29: 27 | B29: 원자력 | C29: 핵심22 | D29: 9 | E29: MN7200280 | F29: 동력로공학특론 | G29: Advanced Power Reactor Engineering | H29: =VLOOKUP(E29,[1]핵심역량!$G$1:$L$165,6,FALSE) -> 10,11,13 | I29: X | J29: 3 | L29: 정재준 | N29: 정재준 | O29: 정재준 | P29: 매년 2학기 | Q29: 2025.부터 핵심 변경
A30: 28 | B30: 에너지 | C30: 응용 | D30: 7 | E30: MN7400666 | F30: 가스터빈복합플랜트설계및운영 | G30: Gas Trubine Combinde Cycle Power Plant | H30: =VLOOKUP(E30,[1]핵심역량!$G$1:$L$165,6,FALSE) -> 11,13 | I30: X | J30: 3 | L30: 최경민 | N30: 최경민 | O30: 최경민 | P30: 매년 2학기
A31: 29 | B31: 에너지 | C31: 응용 | D31: 6 | E31: MN6300561 | F31: 고등전산유체역학 | G31: Modern Methods in the Computational Fluid Dynamics | H31: =VLOOKUP(E31,[1]핵심역량!$G$1:$L$165,6,FALSE) -> 10,11,13 | I31: X | J31: 3 | L31: 박원규 | N31: 하만영 | O31: 박원규,하만영 | P31: 매년 2학기
A32: 30 | B32: 에너지 | C32: 응용 | D32: 5 | E32: MN7000617 | F32: 고체연료연소특론 | G32: Advanced Solid Fuel Combustion | H32: =VLOOKUP(E32,[1]핵심역량!$G$1:$L$165,6,FALSE) -> 10 | I32: X | J32: 3 | K32: 송주헌 | M32: 송주헌 | O32: 송주헌 | P32: 매년 1학기
A33: 31 | B33: 에너지 | C33: 응용 | D33: 5,7 | E33: MN6300590 | F33: 기관설계공학 | G33: Theory and Practice of Engine Design | H33: =VLOOKUP(E33,[1]핵심역량!$G$1:$L$165,6,FALSE) -> 10 | I33: X | J33: 3 | L33: 송주헌/전충환 | O33: 송주헌 | P33: 홀수년 2학기
A34: 32 | B34: 에너지 | C34: 응용 | D34: 4 | E34: MN6800290 | F34: 나노입자공학 | G34: Nano Particle Engineering | H34: =VLOOKUP(E34,[1]핵심역량!$G$1:$L$165,6,FALSE) -> 10,11 | I34: X | J34: 3 | K34: 이동근 | O34: 이동근
A35: 33 | B35: 에너지 | C35: 응용 | D35: 6 | E35: MN6100111 | F35: 난류이론 | G35: Theory of Turbulence | H35: =VLOOKUP(E35,[1]핵심역량!$G$1:$L$165,6,FALSE) -> 10 | I35: O | J35: 3 | N35: 김경철/황진율 | O35: 황진율 | P35: 짝수년 2학기
A36: 34 | B36: 에너지 | C36: 응용 | D36: 7 | E36: MN6900639 | F36: 냉동공조특론 | G36: Advanced Refrigeration and Air Conditioning | H36: =VLOOKUP(E36,[1]핵심역량!$G$1:$L$165,6,FALSE) -> 10,11,13 | I36: X | J36: 3 | K36: 정지환 | M36: 정지환 | O36: 정지환 | P36: 매년 1학기
A37: 35 | B37: 에너지 | C37: 응용 | D37: 7 | E37: MN6100280 | F37: 대류열전달 | G37: Convective Heat Transfer | H37: =VLOOKUP(E37,[1]핵심역량!$G$1:$L$165,6,FALSE) -> 10,13 | I37: X | J37: 3 | K37: 하만영 | O37: 하만영 | P37: 홀수년 1학기
A38: 36 | B38: 에너지 | C38: 응용 | D38: 4,6 | E38: MN6002447 | F38: 마이크로유체역학 | G38: MICROFLUID MECHANICS | H38: 10,11,13 | I38: X | J38: 3 | K38: 고정상 | M38: 고장상 | O38: 김승호 | P38: 매년 1학기 | Q38: 2026-2차 명칭변경, 마이크로유체공학
A39: 37 | B39: 에너지 | C39: 응용 | D39: 3,4 | E39: MN6800292 | F39: 미세유체시스템특론 | G39: Advanced Microfluidic System | H39: =VLOOKUP(E39,[1]핵심역량!$G$1:$L$165,6,FALSE) -> 10,13 | I39: X | J39: 3 | L39: (고정상) | N39: 고정상 | O39: 고정상
A40: 38 | B40: 에너지 | C40: 응용 | D40: 7 | E40: MN6100980 | F40: 복사열전달 | G40: Radiative Heat Transfer | H40: =VLOOKUP(E40,[1]핵심역량!$G$1:$L$165,6,FALSE) -> 10,11 | I40: X | J40: 3 | N40: 송주헌 | O40: 송주헌 | P40: 짝수년 2학기
A41: 39 | B41: 에너지 | C41: 응용 | D41: 4 | E41: MN7400210 | F41: 생체유체공학 | G41: Biofluid Mechanics | H41: =VLOOKUP(E41,[1]핵심역량!$G$1:$L$165,6,FALSE) -> 10,11 | I41: X | J41: 3 | N41: 염은섭 | O41: 염은섭
...

Sheet 교육분야(Education Area)
A1: 1.재료 및 설계 | B1: 2.동역학, 진동 및 음향학 | C1: 3.첨단생산공학 | D1: 4.마이크로/나노/ 바이오공학 | E1: 5.에너지 및 환경 | F1: 6.유체공학 | G1: 7.열공학 | H1: 8.로보틱스 및 제어공학 | I1: 9.원자력 및 방사선 공학
A2: 노유정 (책임) | B2: 정철웅 (책임) | C2: 박상후 (책임) | D2: 고종수 (책임) | E2: 이동근 (책임) | F2: 고정상 (책임) | G2: 최경민 (책임) | H2: 강동중 (책임) | I2: 윤병조 (책임)
A3: 이태경 (간사) | B3: 서준호 (간사) | C3: 김지훈 (간사) | D3: 김송길 (간사) | E3: 이준엽 (간사) | F3: 황진율 (간사) | G3: 염은섭 (간사) | H3: 진상록 (간사) | I3: 이현철 (간사)
A4: 김 철 박성훈 이병용 이태경 조윤호 배수원 김송길 김지훈 박상후 반치범 이하범 이두열 권순조 | B4: 송경준 백승훈 황상문 조윤호 안창선 진상록 손동훈 | C4: 김양진 안석영 김 철 박석희 최재원 권순조 | D4: 고정상 박상민 박석희 염은섭 이동근 이하범 김양진 김호경 박성훈 이승욱 김민철 김승호 손동훈 배수원 | E4: 서준호 송주헌 이병용 임희창 전충환 정재준 정지환 김민철 오세철 김학수 | F4: 임희창 고정상 민준기 김승호 | G4: 전충환 정지환 송주헌 민준기 윤병조 오세철 김학수 | H4: 안창선 이 석 김화영 최재원 박상민 권정한 손동훈 박종혁 정다솔 양민진 | I4: 반치범 이승욱 이준엽 김호경 정재준 안석영 민준기
A10: 16 | B10: 9 | C10: 10 | D10: 17 | E10: 12 | F10: 6 | G10: 9 | H10: 12 | I10: 9
A11: 기초 교과목 | B11: 확률및통계(설계), 공학수치해석특론(원자력), 미분방정식특론(정밀), 선형대수학특론(제어), 응용공업수학(에너지)
A12: 핵심교과목 | B12: 핵심교과목 | C12: 핵심교과목 | D12: 핵심교과목 | E12: 핵심교과목 | F12: 핵심교과목 | G12: 핵심교과목 | H12: 핵심교과목 | I12: 핵심교과목
A13: 고체역학특론 | B13: 고체역학특론 | C13: 생산공학특론 | D13: 유체역학특론 | E13: 열역학특론 | F13: 열역학특론 | G13: 열역학특론 | H13: 바이오영상신호처리 | I13: 방사선공학
A14: 유한요소법특론 | B14: 유한요소법특론 | C14: 선형제어 | D14: 마이크로가공 | E14: 열물질확산특론 | F14: 열물질확산특론 | G14: 열물질확산특론 | H14: 선형제어 | I14: 원자로이론특론
A15: 선형진동론 | B15: 선형진동론 | C15: 연속체역학개론 | D15: 바이오영상신호처리 | E15: 유체역학특론 | F15: 유체역학특론 | G15: 유체역학특론 | H15: 계측및신호처리 | I15: 다상유동(Ⅰ)
A16: 동역학특론 | B16: 동역학특론 | C16: 정밀측정학 | D16: 방사선공학 | E16: 실험열유체역학 | F16: 실험열유체역학 | G16: 실험열유체역학 | H16: 비선형제어 | I16: 동력로공학특론
A17: 재료과학특론 | B17: 선형제어 | C17: 재료과학특론 | E17: 다상유동(Ⅰ) | G17: 다상유동(Ⅰ) | H17: 생산자동화특론 | I17: 바이오영상신호처리
A18: 연속체역학개론
A19: 응용교과목 | B19: 응용교과목 | C19: 응용교과목 | D19: 응용교과목 | E19: 응용교과목 | F19: 응용교과목 | G19: 응용교과목 | H19: 응용교과목 | I19: 응용교과목
A20: 경계요소법 | B20: 경계요소법 | C20: 미세유체시스템특론 | D20: 나노입자공학 | E20: 고체연료연소특론 | F20: 고등전산유체역학 | G20: 가스터빈복합플랜트설계및운영 | H20: 마이크로로봇공학 | I20: 원전제염해체특론
A21: 경량금속재료특론 | B21: 구조동역학 | C21: CAD/CAM특론 | D21: 마이크로유체역학 | E21: 기관설계공학 | F21: 난류이론 | G21: 기관설계공학 | H21: 감성디자인 | I21: 방사선계측시스템
A22: 고장감지및진단 | B22: 기구학특론 | C22: 나노공정개론 | D22: 미세유체시스템특론 | E22: 에너지변환및발전공학 | F22: 마이크로유체역학 | G22: 냉동공조특론 | H22: 계측공학특론 | I22: 의학영상센서
A23: 기계시스템설계특론(I) | B23: 기어시스템동역학 | C23: 마이크로역학 | D23: 생체유체공학 | E23: 에너지시스템특론(I) | F23: 압축성유체역학 | G23: 대류열전달 | H23: 뇌공학 | I23: 공학응용프로그래밍
A24: 기계시스템설계특론(II) | B24: 기어시스템설계 | C24: 사출성형특론 | D24: 표면및계면공학 | E24: 에너지시스템특론(II) | F24: 응용광학및계측 | G24: 복사열전달 | H24: 다변수제어 | I24: 다상유동(Ⅱ)
A25: 동적재료거동학 | B25: 다물체동역학 | C25: 생체의료용 재료 가공 및 응용 | D25: 인체조직공학 | E25: 풍력공학특론 | F25: 전산난류모델 | G25: 에너지변환및발전공학 | H25: 디지털및인공지능제어 | I25: 방사선물리및방호
A26: 복합재료특론 | B26: 다이나믹시스템공학 | C26: 소성론 | D26: 피로이론 | E26: 풍력시스템설계특론 | F26: 전산유체역학특론 | G26: 연소공학특론 | H26: 디지털신호처리 | I26: 방사선빔응용공학
A27: 비파괴진단공학 | B27: 베어링 윤활과 씨일 동역학 | C27: 압연이론 | D27: 혼합체이론 | E27: 에너지 재료 특성 평가 특론 | F27: 터보기계특론 | G27: 열교환기특론 | H27: 로봇공학특론(I) | I27: 방사선영상개론
A28: 복합재료특론 | B28: 비파괴진단공학 | C28: 적층제조공학특론 | D28: 기능성나노소재특론 | E28: 에너지-환경 국제세미나 | F28: 반도체유체공학 | G28: 수열원히트펌프시스템 | H28: 로봇인지시스템 | I28: 방사성폐기물관리및처분공학
A29: 비파괴진단공학 | B29: 소음진동시스템 | C29: 특수가공학 | D29: 나노공정개론 | E29: 수열원히트펌프시스템 | F29: 유압제어 | G29: 다상유동(Ⅱ) | H29: 머신비전 | I29: 원자력안전특론
A30: 에너지저장/변환재료설계 | B30: 소음진동실험해석 | C30: 판재성형이론 | D30: 마이크로가공응용 | E30: 반도체유체공학 | F30: 전자유체제어 | G30: 열수력시스템최적화 | H30: 방사선계측시스템 | I30: 원자력재료및설계
A31: 유기재료특론 | B31: 유동소음 | C31: 지식기반설계 | D31: 마이크로역학 | E31: 에너지저장/변환재료설계 | F31: 고등점성유동 | G31: 전산다상유동 | H31: 방사선영상공학 | I31: 원자력정책및이슈
A32: 전산모사공학 | B32: 음향공학 | C32: 감성디자인 | D32: 생체의료용 재료 가공 및 응용 | E32: 베어링 윤활과 씨일 동역학 | G32: 히트파이프개론 | H32: 비선형제어 | I32: 원자력화학공학
A33: 최적설계특론 | B33: 음향제어특론 | C33: 유비쿼터스컴퓨팅 | D33: 초정밀가공론 | E33: 회전기계고장진단 | H33: 생체모방공학 | I33: 원자로공학
A34: 탄성론 | B34: 전산기구학 | C34: 인간-기계상호작용 | D34: 뇌공학 | E34: 회전기계설계 | H34: 스마트가전융합프로젝트 | I34: 원자로실험
A35: 파괴역학 | B35: 전산음향학 | C35: 인공지능특론 | D35: 방사선계측시스템 | E35: 회전체동역학 | H35: 스마트가전인턴 | I35: 원전기기부식특론
A36: 파동론 | B36: 전자기기계설계 | C36: 추정론 | D36: 방사선영상공학 | H36: 유비쿼터스컴퓨팅 | I36: 전산다상유동
A37: 피로이론 | B37: 차량동역학특론 | D37: 생체모방공학 | H37: 유압제어 | I37: 히트파이프개론
A38: 혼합체이론 | B38: 탄성론 | D38: 의료용로봇특론 | H38: 의료용로봇특론
A39: 비선형진동론 | B39: 탄성체동역학 | D39: 의학영상센서 | H39: 의학영상센서
A40: 분자모델링과시뮬레이션 | B40: 파괴역학 | D40: 인지공학특론 | H40: 인간-기계상호작용
A41: CAD/CAM특론 | B41: 파동론 | D41: 방사선물리및방호 | H41: 인공지능특론
A42: 고압기계특론 | B42: 해석음향학 | D42: 방사선빔응용공학 | H42: 인지공학특론
A43: 기능부품설계특론 | B43: 회전기계고장진단 | D43: 방사선영상개론 | H43: 자동차제어시스템
A44: 나노공정개론 | B44: 회전기계설계 | H44: 적응제어
A45: 마이크로역학 | B45: 회전체동역학 | H45: 전동화자동차제어
...

Sheet 원자력_학위청구 시험 신청서
A1: 2026년도 2학기 학위논문제출 자격시험 응시희망과목 신청서(학과제출용)- 2026.8.18.(화)까지 ami5603@pusan.ac.kr
A4: 실험실명: 00000 실험실 * 각 과정별로 본인이 이수한 과목 중 기초+핵심 각 1과목 이상 포함하여 석사 3과목, 박사.통합과정 4과목 *학위청구 종합시험일정 : 9.18.금.13시 *전공시험 면제 대상과목(석사과정)도 학과에 희망과목신청서 제출하고, 웹신청도 해야함. *웹신청기간 : 2026.8.24.10시-9.4.18시까지(학과에 제출한 교과목을 반드시 웹에서도 신청하도록 대상자들에게 안내)
B5: 과정 | C5: 성명 | D5: 학번 | E5: 연락처(핸드폰) | F5: 외국어 시험 | H5: 종합시험 | O5: 지도교수 | P5: 2025학번부터는 지정 핵심 선택분야 기재
F6: 기존 합격 (년월) | G6: 25.9월 시험 신청 여부 | H6: 기존 합격 과목 | J6: 25.09월 시험 신청 과목
H7: 구분 (기초,핵심,응용) | I7: 과목명 (합격년월) | J7: 구분 (기초,핵심,응용) | K7: 과목명 | L7: 담당교수 | M7: 면제신청 (A0이상) | N7: 필기 시험 신청
A8: 1 | B8: 석사 | C8: 홍길동1 | D8: 202583000 | E8: 010-000-0000 | F8: × | G8: O | H8: 기초 | I8: 선형대수학특론(25.03) | J8: 응용 | K8: 원자력재료및설계 | L8: 반치범 | M8: O
J9: 핵심 | K9: 원자로이론특론 | L9: 이현철 | M9: O | O9: 이현철 | P9: 9번 원자력및방사선공학
A10: 2 | B10: 석사 | C10: 홍길동2 | D10: 202183111 | E10: 010-000-0000 | F10: 합격(25.03) | G10: × | H10: 기초 | I10: 공학미분방정식(25.03) | J10: 응용 | K10: 방사선 계측 시스템 | L10: 김호경 | N10: O
J11: 핵심 | K11: 원자로이론특론 | L11: 이현철 | N11: O
A12: 3 | B12: 박사 | C12: 홍길동3 | D12: 202193111 | E12: 010-000-0000 | F12: × | G12: × | H12: 응용 | I12: 원자력재료및설계 | J12: 기초 | K12: 공학수치해석특론 | L12: 민준기 | N12: O
J13: 핵심 | K13: 유체역학특론 | L13: 고정상 | N13: O
